BEGIN:VCALENDAR
VERSION:2.0
PRODID:-// - ECPv6.15.20//NONSGML v1.0//EN
CALSCALE:GREGORIAN
METHOD:PUBLISH
X-ORIGINAL-URL:https://kfkm27.fr
X-WR-CALDESC:Évènements pour 
REFRESH-INTERVAL;VALUE=DURATION:PT1H
X-Robots-Tag:noindex
X-PUBLISHED-TTL:PT1H
BEGIN:VTIMEZONE
TZID:Europe/Paris
BEGIN:DAYLIGHT
TZOFFSETFROM:+0100
TZOFFSETTO:+0200
TZNAME:CEST
DTSTART:20250330T010000
END:DAYLIGHT
BEGIN:STANDARD
TZOFFSETFROM:+0200
TZOFFSETTO:+0100
TZNAME:CET
DTSTART:20251026T010000
END:STANDARD
BEGIN:DAYLIGHT
TZOFFSETFROM:+0100
TZOFFSETTO:+0200
TZNAME:CEST
DTSTART:20260329T010000
END:DAYLIGHT
BEGIN:STANDARD
TZOFFSETFROM:+0200
TZOFFSETTO:+0100
TZNAME:CET
DTSTART:20261025T010000
END:STANDARD
BEGIN:DAYLIGHT
TZOFFSETFROM:+0100
TZOFFSETTO:+0200
TZNAME:CEST
DTSTART:20270328T010000
END:DAYLIGHT
BEGIN:STANDARD
TZOFFSETFROM:+0200
TZOFFSETTO:+0100
TZNAME:CET
DTSTART:20271031T010000
END:STANDARD
END:VTIMEZONE
BEGIN:VEVENT
DTSTART;TZID=Europe/Paris:20260623T183000
DTEND;TZID=Europe/Paris:20260623T210000
DTSTAMP:20260425T040329
CREATED:20240716T080814Z
LAST-MODIFIED:20260408T082750Z
UID:303-1782239400-1782248400@kfkm27.fr
SUMMARY:Passage de ceinture Krav Maga
DESCRIPTION:Passages de ceintures kung-fu enfants 2025/2026				\n				\n				\n				\n							\n			\n						\n		\n						\n				\n				\n				\n							\n			\n		\n						\n				\n					\n				\n		\n					\n		\n				\n				\n									 Le 26 juin 2025\, nous organisons le passage de ceintures des enfants.Ce sera l’occasion pour eux de montrer tout le travail accompli depuis le début de l’année scolaire 2024-2025. Au programme : Exécution des postures et déplacements de base du kung-fu. Enchaînements de coups portés sur des boucliers. Démonstration d’un Tao. Phase de combat. Une fois toutes ces épreuves terminées\, nous procéderont à la remise des ceintures.       								\n				\n				\n				\n				\n																														\n				\n				\n				\n																														\n				\n					\n				\n		\n					\n		\n				\n				\n					jeudi 26 juin - 18h30 -21h				\n				\n				\n		\n				\n				\n					\n	\n		\n\n	\n	Ajouter au calendrier	\n		\n	\n\n		\n			\n									\n	Google Agenda\n\n									\n	iCalendar\n\n									\n	Outlook 365\n\n									\n	Outlook Live\n\n							\n		\n\n		\n	\n\n				\n				\n				\n		\n				\n				\n					Complexe sportif Léo-lagrange rte des sablon-27100 Val-de-Reuil
URL:https://kfkm27.fr/event/passage-de-ceinture-krav-maga/
CATEGORIES:Krav Maga,Passage de ceinture
ATTACH;FMTTYPE=image/jpeg:https://kfkm27.fr/wp-content/uploads/2024/07/Passage-de-grade-krav-maga.jpg
END:VEVENT
END:VCALENDAR