BEGIN:VCALENDAR
VERSION:2.0
PRODID:-// - ECPv6.15.20//NONSGML v1.0//EN
CALSCALE:GREGORIAN
METHOD:PUBLISH
X-ORIGINAL-URL:https://kfkm27.fr
X-WR-CALDESC:Évènements pour 
REFRESH-INTERVAL;VALUE=DURATION:PT1H
X-Robots-Tag:noindex
X-PUBLISHED-TTL:PT1H
BEGIN:VTIMEZONE
TZID:Europe/Paris
BEGIN:DAYLIGHT
TZOFFSETFROM:+0100
TZOFFSETTO:+0200
TZNAME:CEST
DTSTART:20250330T010000
END:DAYLIGHT
BEGIN:STANDARD
TZOFFSETFROM:+0200
TZOFFSETTO:+0100
TZNAME:CET
DTSTART:20251026T010000
END:STANDARD
BEGIN:DAYLIGHT
TZOFFSETFROM:+0100
TZOFFSETTO:+0200
TZNAME:CEST
DTSTART:20260329T010000
END:DAYLIGHT
BEGIN:STANDARD
TZOFFSETFROM:+0200
TZOFFSETTO:+0100
TZNAME:CET
DTSTART:20261025T010000
END:STANDARD
BEGIN:DAYLIGHT
TZOFFSETFROM:+0100
TZOFFSETTO:+0200
TZNAME:CEST
DTSTART:20270328T010000
END:DAYLIGHT
BEGIN:STANDARD
TZOFFSETFROM:+0200
TZOFFSETTO:+0100
TZNAME:CET
DTSTART:20271031T010000
END:STANDARD
BEGIN:DAYLIGHT
TZOFFSETFROM:+0100
TZOFFSETTO:+0200
TZNAME:CEST
DTSTART:20280326T010000
END:DAYLIGHT
BEGIN:STANDARD
TZOFFSETFROM:+0200
TZOFFSETTO:+0100
TZNAME:CET
DTSTART:20281029T010000
END:STANDARD
BEGIN:DAYLIGHT
TZOFFSETFROM:+0100
TZOFFSETTO:+0200
TZNAME:CEST
DTSTART:20290325T010000
END:DAYLIGHT
BEGIN:STANDARD
TZOFFSETFROM:+0200
TZOFFSETTO:+0100
TZNAME:CET
DTSTART:20291028T010000
END:STANDARD
END:VTIMEZONE
BEGIN:VEVENT
DTSTART;VALUE=DATE:20260404
DTEND;VALUE=DATE:20280404
DTSTAMP:20260425T152148
CREATED:20240716T073540Z
LAST-MODIFIED:20260327T140308Z
UID:297-1775260800-1838419199@kfkm27.fr
SUMMARY:Stage de désarmement
DESCRIPTION:Stage de désarmement\nRejoignez nous pour un stage intensif de désarmements en Krav Maga\, conçu pour vous enseigner des techniques contre des attaques armées. Animé par Damien DUMONT\, expert en Krav Maga\, ce stage est ouvert à tous les niveaux\, des débutants aux pratiquants avancés. Au cours de ce stage\, vous apprendrez à désarmer des attaquants munis de couteaux\, de bâtons et d’armes à feu simulées. Les sessions combinent théorie et pratique\, en mettant l’accent sur la rapidité\, la précision et l’utilisation des réflexes naturels pour neutraliser efficacement les menaces. Des exercices de mise en situation vous permettront de pratiquer sous stress\, renforçant ainsi votre confiance et votre capacité à réagir en cas de danger réel. \n\nSamedi\n\n	\n	Ajouter au calendrier	\n		\n	\n \n\n\n	Google Agenda\n\n\n	iCalendar\n\n\n	Outlook 365\n\n\n	Outlook Live\n\n\n\nGymnase
URL:https://kfkm27.fr/event/stage-de-desarmements/
CATEGORIES:Krav Maga,Stage
END:VEVENT
END:VCALENDAR